BEGIN:VCALENDAR
VERSION:2.0
PRODID:-//Sober Hangout - ECPv6.15.17.1//NONSGML v1.0//EN
CALSCALE:GREGORIAN
METHOD:PUBLISH
X-WR-CALNAME:Sober Hangout
X-ORIGINAL-URL:https://soberhangout.com
X-WR-CALDESC:Events for Sober Hangout
REFRESH-INTERVAL;VALUE=DURATION:PT1H
X-Robots-Tag:noindex
X-PUBLISHED-TTL:PT1H
BEGIN:VTIMEZONE
TZID:America/Denver
BEGIN:DAYLIGHT
TZOFFSETFROM:-0700
TZOFFSETTO:-0600
TZNAME:MDT
DTSTART:20250309T090000
END:DAYLIGHT
BEGIN:STANDARD
TZOFFSETFROM:-0600
TZOFFSETTO:-0700
TZNAME:MST
DTSTART:20251102T080000
END:STANDARD
BEGIN:DAYLIGHT
TZOFFSETFROM:-0700
TZOFFSETTO:-0600
TZNAME:MDT
DTSTART:20260308T090000
END:DAYLIGHT
BEGIN:STANDARD
TZOFFSETFROM:-0600
TZOFFSETTO:-0700
TZNAME:MST
DTSTART:20261101T080000
END:STANDARD
BEGIN:DAYLIGHT
TZOFFSETFROM:-0700
TZOFFSETTO:-0600
TZNAME:MDT
DTSTART:20270314T090000
END:DAYLIGHT
BEGIN:STANDARD
TZOFFSETFROM:-0600
TZOFFSETTO:-0700
TZNAME:MST
DTSTART:20271107T080000
END:STANDARD
END:VTIMEZONE
BEGIN:VEVENT
DTSTART;TZID=America/Denver:20260314T100000
DTEND;TZID=America/Denver:20260314T120000
DTSTAMP:20260420T003027
CREATED:20260223T181232Z
LAST-MODIFIED:20260310T234327Z
UID:10000132-1773482400-1773489600@soberhangout.com
SUMMARY:Sober Hangout - Living Room Hike
DESCRIPTION:Sober Hangout\\n\\nJoin us for a roughly two-hour hike up to the “Living Room” above the Shoreline Trail. This is a moderate-difficulty hike with a steady incline and rewarding views at the top. \nWe’ll meet in the southwest corner of the Natural History Museum parking lot (lower level\, furthest from the road) and head out together at 10 a.m. \nThis event is open to anyone who is sober\, sober-curious\, alcohol-free\, or simply taking a break and looking for community outside of drinking culture. \nWear sturdy shoes and bring water. If there’s snow or ice on the trail\, traction spikes are recommended. \nFree event. Come for the hike\, stay for the connection.
URL:https://soberhangout.com/event/living-room-hike-sober-hangout/
LOCATION:Natural History Museum\, 301 Wakara Way\, Salt Lake City\, UT\, 84108\, United States
CATEGORIES:Sober Hangout Event
ATTACH;FMTTYPE=image/jpeg:https://soberhangout.com/wp-content/uploads/2026/02/living-room-hike-1.jpg
ORGANIZER;CN="Sober Hangout":MAILTO:hello@soberhangout.com
END:VEVENT
BEGIN:VEVENT
DTSTART;TZID=America/Denver:20260307T100000
DTEND;TZID=America/Denver:20260307T110000
DTSTAMP:20260420T003027
CREATED:20260212T043306Z
LAST-MODIFIED:20260304T163652Z
UID:10000130-1772877600-1772881200@soberhangout.com
SUMMARY:Sober Hangout - Meet up at Publik Coffee Roasters
DESCRIPTION:Sober Hangout\\n\\nJoin us for a relaxed\, low-key coffee meetup at Publik Coffee Roasters. This is a simple chance to connect with other sober\, sober-curious\, and alcohol-free folks in Salt Lake City. \nNo agenda\, no pressure — just good conversation and community. \nGrab a drink\, pull up a chair\, and stay as long as you’d like. Whether you’re newly sober\, sober-curious\, have been alcohol-free for years\, or are just taking a break\, you’re welcome here. \nFree to attend. Just show up. \nWho this meetup is for \n• People who are sober\n• People who are sober-curious\n• People taking a break from alcohol\n• Anyone who wants to meet others in Salt Lake without the bar scene \nNo labels required — just come grab a coffee and say hello. \nAbout 10 people are already planning to attend. Come join us.
URL:https://soberhangout.com/event/meet-up-at-publik-coffee-roasters/
LOCATION:Publik Coffee Roasters\, 975 S W Temple St\, Salt Lake City\, UT\, 84101\, United States
CATEGORIES:Sober Hangout Event
ATTACH;FMTTYPE=image/jpeg:https://soberhangout.com/wp-content/uploads/2026/02/publik.jpg
ORGANIZER;CN="Sober Hangout":MAILTO:hello@soberhangout.com
END:VEVENT
END:VCALENDAR